BEGIN:VCALENDAR
VERSION:2.0
PRODID:Imitheme.com 
BEGIN:VEVENT
UID:20260425T110959649970650
DTSTAMP;TZID=UTC:2026-04-25 11:09:59
DTSTART;TZID=America/Los_Angeles:20260425T110959
DTEND;TZID=America/Los_Angeles:20260425T110959
SUMMARY:B is for Blessed
LOCATION:Douai Abbey\, Upper Woolhampton\, Reading\, RG7 5TQ
DESCRIPTION:
URL:https://tamesischamberchoir.com/eventer/b-is-for-blessed
END:VEVENT
END:VCALENDAR
