BEGIN:VCALENDAR
VERSION:2.0
PRODID:Imitheme.com 
BEGIN:VEVENT
UID:20260425T110850691945672
DTSTAMP;TZID=UTC:2026-04-25 11:08:50
DTSTART;TZID=America/Los_Angeles:20260425T110850
DTEND;TZID=America/Los_Angeles:20260425T110850
SUMMARY:Tamesis Taster
LOCATION:Wesley Methodist Church\, Queen\'s Rd\, Reading\, RG1 4BW
DESCRIPTION:Our first concert, in October 2003, was a Tamesis taster, incorporating all the different styles of music that we perform as a choir. Programme (PDF) - Beatus Vir (Monteverdi) - Salvator Mundi (Tallis) - If ye love me (Tallis) - Locus Iste (Bruckner) - Christus factus est (Bruckner) - Virga Jesse (Bruckner) - Songs of Farewell - My soul, there is a country (Parry) - Songs of Farewell - Never weather-beaten sail (Parry) - Mother, I will have a husband (Vautor) - My Spirit sang all day (Finzi) - The Hills (Ireland) - Greensleeves (Vaughan-Williams) - Spirituals for Choirs - All my trials (Chilcott (arr.)) - Spirituals for Choirs - Steal away (Blackwell (arr.)) - Ev\'ry time I feel the Spirit (Paynes (arr.)) - Let\'s do it (Kern/Harbach arr. Blackwell) - Smoke gets in your eyes (Kern/Harbach arr. Blackwell) - I got rhythm (Gershwin arr. Clapham)
URL:https://tamesischamberchoir.com/eventer/tamesis-taster
END:VEVENT
END:VCALENDAR
