BEGIN:VCALENDAR
VERSION:2.0
PRODID:Imitheme.com 
BEGIN:VEVENT
UID:20260423T091110206818417
DTSTAMP;TZID=UTC:2026-04-23 09:11:10
DTSTART;TZID=America/Los_Angeles:20260423T091110
DTEND;TZID=America/Los_Angeles:20260423T091110
SUMMARY:Wokingham Jubilee Chorus Concert
LOCATION:Elms Field\, Wokingham\, Berkshire
DESCRIPTION:We are excited to be a key part of Wokingham’s Jubilee Chorus Concert – the choir is currently standing at 125 singers, and counting! Tamesis will be taking a lead with Jubilee favourites such as ‘I was Glad’, ‘Zadok the Priest’ and the ‘Hallelujah Chorus’, but we will also be singing Mealor’s beautiful ‘Ubi Caritas’ and Vaughan Williams’ ‘O Taste and See’ by ourselves. The brilliant Docklands Sinfonia will be joining us all and the evening will conclude in true Jubilee style with Parry’s ‘Jerusalem’ and Elgar’s ‘Pomp and Circumstance’. There will be fireworks! There will be a bar! Come and join in the fun!
URL:https://tamesischamberchoir.com/eventer/wokingham-jubilee-chorus-concert
END:VEVENT
END:VCALENDAR
