BEGIN:VCALENDAR
VERSION:2.0
PRODID:Imitheme.com 
BEGIN:VEVENT
UID:20260425T114017325514941
DTSTAMP;TZID=UTC:2026-04-25 11:40:17
DTSTART;TZID=America/Los_Angeles:20260425T114017
DTEND;TZID=America/Los_Angeles:20260425T114017
SUMMARY:A Summer Feast
LOCATION:Douai Abbey\, Upper Woolhampton\, Reading\, RG7 5TQ
DESCRIPTION:For the culmination of our tenth anniversary season, we are very pleased indeed to have been invited to return to the beautiful Douai Abbey for a concert of sacred music. Sacred music was the category most voted for this season, and we will be offering some real gems this evening, including music by Allegri, Howells, Purcell, Gorecki, Lauridsen, Monteverdi, Bach, Mendelssohn and Bruckner. Don’t miss this concert, which promises to be an outstanding evening of exquisite choral music. Programme (PDF) Full Programme - Hear my prayer, O Lord – Purcell - Beatus Vir – Monteverdi - Take him, earth, for cherishing – Howells - O vos omnes – Casals - Miserere Mei – Allegri - For the fallen – Guest - Ave Maria – Mendelssohn - O magnum mysterium – Lauridsen - Totus tuus sum, Maria – Gorecki - Lobet den Herrn – Bach - Locus Iste – Bruckner
URL:https://tamesischamberchoir.com/eventer/a-summer-feast
END:VEVENT
END:VCALENDAR
