BEGIN:VCALENDAR
VERSION:2.0
PRODID:Imitheme.com 
BEGIN:VEVENT
UID:20260423T1019201930440862
DTSTAMP;TZID=UTC:2026-04-23 10:19:20
DTSTART;TZID=America/Los_Angeles:20260423T101920
DTEND;TZID=America/Los_Angeles:20260423T101920
SUMMARY:Midsummer Music - A Medley of Medleys
LOCATION:Henley-On-Thames\, South Oxfordshire\, Oxfordshire\, RG9 4ES
DESCRIPTION:
URL:https://tamesischamberchoir.com/eventer/midsummer-music-a-medley-of-medleys
END:VEVENT
END:VCALENDAR
