BEGIN:VCALENDAR
VERSION:2.0
PRODID:Imitheme.com 
BEGIN:VEVENT
UID:20260423T101913911880692
DTSTAMP;TZID=UTC:2026-04-23 10:19:13
DTSTART;TZID=America/Los_Angeles:20260423T101913
DTEND;TZID=America/Los_Angeles:20260423T101913
SUMMARY:Light Bites
LOCATION:St Laurence\'s Church\, Friar St\, Reading\, RG1 1DA
DESCRIPTION:Our \'lighter-vein\' concert for 2012-13, this concert includes the winner of the all the votes for our tenth anniversary season, Bohemian Rhapsody, plus such pop classics as Toto\'s Africa, Mr Blue Sky and A whiter shade of pale. We will also be performing Karl Jenkins\' Adiemus, and John Rutter\'s Birthday Madrigals.
URL:https://tamesischamberchoir.com/eventer/light-bites
END:VEVENT
END:VCALENDAR
