BEGIN:VCALENDAR
VERSION:2.0
PRODID:Imitheme.com 
BEGIN:VEVENT
UID:20260423T101629834537215
DTSTAMP;TZID=UTC:2026-04-23 10:16:29
DTSTART;TZID=America/Los_Angeles:20260423T101629
DTEND;TZID=America/Los_Angeles:20260423T101629
SUMMARY:People, look East! A Concert of Advent Music
LOCATION:St Peter & St Paul Church\, Church Lane\, Shiplake\, Henley-on-Thames\, RG9 4BS
DESCRIPTION:
URL:https://tamesischamberchoir.com/eventer/people-look-east
END:VEVENT
END:VCALENDAR
