BEGIN:VCALENDAR
VERSION:2.0
PRODID:Imitheme.com 
BEGIN:VEVENT
UID:20260423T1020111814320724
DTSTAMP;TZID=UTC:2026-04-23 10:20:11
DTSTART;TZID=America/Los_Angeles:20260423T102011
DTEND;TZID=America/Los_Angeles:20260423T102011
SUMMARY:My Spirit Sang All Day as part of the Caversham Festival of Song
LOCATION:Caversham Baptist Church\, 1 Prospect Street\, Caversham\, Reading RG4 8JB
DESCRIPTION:
URL:https://tamesischamberchoir.com/eventer/my-spirit-sang-all-day
END:VEVENT
END:VCALENDAR
