BEGIN:VCALENDAR
VERSION:2.0
PRODID:Imitheme.com 
BEGIN:VEVENT
UID:20260420T1210251551135202
DTSTAMP;TZID=UTC:2026-04-20 12:10:25
DTSTART;TZID=America/Los_Angeles:20260420T121025
DTEND;TZID=America/Los_Angeles:20260420T121025
SUMMARY:Blue Skies On the Day Rehearsal
LOCATION:Eton College Chapel\, Eton\, SL4 6DW
DESCRIPTION:
URL:https://tamesischamberchoir.com/eventer/blue-skies-on-the-day-rehearsal
END:VEVENT
END:VCALENDAR
