BEGIN:VCALENDAR
VERSION:2.0
PRODID:Imitheme.com 
BEGIN:VEVENT
UID:20260420T10493734166737
DTSTAMP;TZID=UTC:2026-04-20 10:49:37
DTSTART;TZID=America/Los_Angeles:20260420T104937
DTEND;TZID=America/Los_Angeles:20260420T104937
SUMMARY:Christmas 21 Rehearsal One
LOCATION:Christ Church\, Christchurch Road\, Reading\, RG2 7AR
DESCRIPTION:
URL:https://tamesischamberchoir.com/eventer/christmas-21-rehearsal-one
END:VEVENT
END:VCALENDAR
