BEGIN:VCALENDAR
VERSION:2.0
PRODID:Imitheme.com 
BEGIN:VEVENT
UID:20260422T083750126974186
DTSTAMP;TZID=UTC:2026-04-22 08:37:50
DTSTART;TZID=America/Los_Angeles:20260422T083750
DTEND;TZID=America/Los_Angeles:20260422T083750
SUMMARY:Autumn 21 Rehearsal Seven
LOCATION:Christ Church\, Christchurch Road\, Reading\, RG2 7AR
DESCRIPTION:
URL:https://tamesischamberchoir.com/eventer/autumn-21-rehearsal-seven
END:VEVENT
END:VCALENDAR
