BEGIN:VCALENDAR
VERSION:2.0
PRODID:Imitheme.com 
BEGIN:VEVENT
UID:20260420T0927561629987947
DTSTAMP;TZID=UTC:2026-04-20 09:27:56
DTSTART;TZID=America/Los_Angeles:20260420T092756
DTEND;TZID=America/Los_Angeles:20260420T092756
SUMMARY:Christmas 21 Rehearsal Two
LOCATION:Christ Church\, Christchurch Road\, Reading\, RG2 7AR
DESCRIPTION:
URL:https://tamesischamberchoir.com/eventer/christmas-21-rehearsal-rwo
END:VEVENT
END:VCALENDAR
