BEGIN:VCALENDAR
VERSION:2.0
PRODID:Imitheme.com 
BEGIN:VEVENT
UID:20260420T0923381863197728
DTSTAMP;TZID=UTC:2026-04-20 09:23:38
DTSTART;TZID=America/Los_Angeles:20260420T092338
DTEND;TZID=America/Los_Angeles:20260420T092338
SUMMARY:Christmas 21 Rehearsal Three
LOCATION:Christ Church\, Christchurch Road\, Reading\, RG2 7AR
DESCRIPTION:
URL:https://tamesischamberchoir.com/eventer/christmas-21-rehearsal-three
END:VEVENT
END:VCALENDAR
