BEGIN:VCALENDAR
VERSION:2.0
PRODID:Imitheme.com 
BEGIN:VEVENT
UID:20260423T0938481081450017
DTSTAMP;TZID=UTC:2026-04-23 09:38:48
DTSTART;TZID=America/Los_Angeles:20260423T093848
DTEND;TZID=America/Los_Angeles:20260423T093848
SUMMARY:Tamesis Summer 22 Rehearsal 2
LOCATION:Christ Church\, Christchurch Road\, Reading\, RG2 7AR
DESCRIPTION:
URL:https://tamesischamberchoir.com/eventer/tamesis-summer-22-rehearsal-1
END:VEVENT
END:VCALENDAR
