BEGIN:VCALENDAR
VERSION:2.0
PRODID:Imitheme.com 
BEGIN:VEVENT
UID:20260423T1112231489961065
DTSTAMP;TZID=UTC:2026-04-23 11:12:23
DTSTART;TZID=America/Los_Angeles:20260423T111223
DTEND;TZID=America/Los_Angeles:20260423T111223
SUMMARY:Tamesis Summer 22 Rehearsal 3
LOCATION:Christ Church\, Christchurch Road\, Reading\, RG2 7AR
DESCRIPTION:
URL:https://tamesischamberchoir.com/eventer/tamesis-summer-22-rehearsal-2
END:VEVENT
END:VCALENDAR
