BEGIN:VCALENDAR
VERSION:2.0
PRODID:Imitheme.com 
BEGIN:VEVENT
UID:20260423T1021031616203944
DTSTAMP;TZID=UTC:2026-04-23 10:21:03
DTSTART;TZID=America/Los_Angeles:20260423T102103
DTEND;TZID=America/Los_Angeles:20260423T102103
SUMMARY:Christmas Carols
LOCATION:All Saints’ Church\, Bisham\, near Marlow\, SL7 1RW
DESCRIPTION:
URL:https://tamesischamberchoir.com/eventer/christmas-carols-3
END:VEVENT
END:VCALENDAR
